BEGIN:VCALENDAR
VERSION:2.0
PRODID:-//Library Market//iCal Export//EN
BEGIN:VEVENT
SUMMARY:Save the Songbirds
UID:15614
DTSTAMP:20260423T195100Z
DTSTART:20260516T150000Z
DTEND:20260516T160000Z
LOCATION:15105 Library Lane, New Berlin, WI 53151, United States
ROOM: Heritage Room
DESCRIPTION:Did you know that in the last 50 years native bird populations
  have declined by over 30%? That is 3 BILLION birds lost. Come learn what 
 you can do to help, and the benefits you can personally find along the way
 . Tom Moser, owner of Wild Birds Unlimited in Brookfield, shares his passi
 on and knowledge of the bird world in this engaging series.
URL:https://www.newberlinlibrary.org/event/save-songbirds-15614
END:VEVENT
END:VCALENDAR
