BEGIN:VCALENDAR
VERSION:2.0
PRODID:-//Library Market//iCal Export//EN
BEGIN:VEVENT
SUMMARY:Pokemon Card Show
UID:18437
DTSTAMP:20260425T121400Z
DTSTART:20260801T180000Z
DTEND:20260801T210000Z
LOCATION:15105 Library Lane, New Berlin, WI 53151, United States
ROOM: Community Room
DESCRIPTION:Registration for vendors now open! https://forms.gle/Pq8fA69Bo
 oahRt2X9 
URL:https://www.newberlinlibrary.org/event/pokemon-card-show-18437
END:VEVENT
END:VCALENDAR
