BEGIN:VCALENDAR
VERSION:2.0
PRODID:-//Library Market//iCal Export//EN
BEGIN:VEVENT
SUMMARY:Puppy Pages - Read to Mac
UID:18703
DTSTAMP:20260419T141700Z
DTSTART:20260501T200000Z
DTEND:20260501T210000Z
LOCATION:15105 Library Lane, New Berlin, WI 53151, United States
ROOM: Youth Services Department
DESCRIPTION:
URL:https://www.newberlinlibrary.org/event/puppy-pages-read-mac-18703
END:VEVENT
END:VCALENDAR
