BEGIN:VCALENDAR
VERSION:2.0
PRODID:-//Library Market//iCal Export//EN
BEGIN:VEVENT
SUMMARY:Puppy Pages - Read to Petunia
UID:18704
DTSTAMP:20260421T150800Z
DTSTART:20260508T150000Z
DTEND:20260508T160000Z
LOCATION:15105 Library Lane, New Berlin, WI 53151, United States
ROOM: Youth Services Department
DESCRIPTION:
URL:https://www.newberlinlibrary.org/event/puppy-pages-read-petunia-18704
END:VEVENT
END:VCALENDAR
