BEGIN:VCALENDAR
VERSION:2.0
PRODID:-//Library Market//iCal Export//EN
BEGIN:VEVENT
SUMMARY:Puppy Pages - Read to ONX
UID:18706
DTSTAMP:20260421T145900Z
DTSTART:20260520T210000Z
DTEND:20260520T220000Z
LOCATION:15105 Library Lane, New Berlin, WI 53151, United States
ROOM: Youth Services Department
DESCRIPTION:
URL:https://www.newberlinlibrary.org/event/puppy-pages-read-onx-18706
END:VEVENT
END:VCALENDAR
