BEGIN:VCALENDAR
VERSION:2.0
PRODID:-//Library Market//iCal Export//EN
BEGIN:VEVENT
SUMMARY:Puppy Pages - Read to Oslo
UID:18707
DTSTAMP:20260419T163500Z
DTSTART:20260526T150000Z
DTEND:20260526T160000Z
LOCATION:15105 Library Lane, New Berlin, WI 53151, United States
ROOM: Youth Services Department
DESCRIPTION:
URL:https://www.newberlinlibrary.org/event/puppy-pages-read-oslo-18707
END:VEVENT
END:VCALENDAR
