BEGIN:VCALENDAR
VERSION:2.0
PRODID:-//Library Market//iCal Export//EN
BEGIN:VEVENT
SUMMARY:Puppy Pages - Read to Molly
UID:18709
DTSTAMP:20260419T163500Z
DTSTART:20260609T150000Z
DTEND:20260609T160000Z
LOCATION:15105 Library Lane, New Berlin, WI 53151, United States
ROOM: Youth Services Department
DESCRIPTION:
URL:https://www.newberlinlibrary.org/event/puppy-pages-read-molly-18709
END:VEVENT
END:VCALENDAR
