BEGIN:VCALENDAR
VERSION:2.0
PRODID:-//Library Market//iCal Export//EN
BEGIN:VEVENT
SUMMARY:Puppy Pages - Read to ONX
UID:18710
DTSTAMP:20260419T163500Z
DTSTART:20260617T200000Z
DTEND:20260617T210000Z
LOCATION:15105 Library Lane, New Berlin, WI 53151, United States
ROOM: Youth Services Department
DESCRIPTION:
URL:https://www.newberlinlibrary.org/event/puppy-pages-read-onx-18710
END:VEVENT
END:VCALENDAR
