BEGIN:VCALENDAR
VERSION:2.0
PRODID:-//Library Market//iCal Export//EN
BEGIN:VEVENT
SUMMARY:Puppy Pages - Read to Mac
UID:18712
DTSTAMP:20260419T163500Z
DTSTART:20260630T150000Z
DTEND:20260630T160000Z
LOCATION:15105 Library Lane, New Berlin, WI 53151, United States
ROOM: Youth Services Department
DESCRIPTION:
URL:https://www.newberlinlibrary.org/event/puppy-pages-read-mac-18712
END:VEVENT
END:VCALENDAR
