BEGIN:VCALENDAR
VERSION:2.0
PRODID:-//Library Market//iCal Export//EN
BEGIN:VEVENT
SUMMARY:Tech Talk: Apple Devices (iPhone/iPad)
UID:18800
DTSTAMP:20260421T215900Z
DTSTART:20260715T190000Z
DTEND:20260715T200000Z
LOCATION:15105 Library Lane, New Berlin, WI 53151, United States
ROOM: Computer Lab
DESCRIPTION:Learn how to use and navigate Apple mobile devices (such as an
  iPhone or iPad).We will go over the basic features of Apple mobile device
 s, including basic phone functions, menu navigation, downloading apps, how
  to change device settings, and more.There will be plenty of time for Q&am
 p;A and troubleshooting in this librarian-led program.To register, call 26
 2-754-1815 or visit newberlinlibrary.org/events!
URL:https://www.newberlinlibrary.org/event/tech-talk-apple-devices-iphonei
 pad-18800
END:VEVENT
END:VCALENDAR
