BEGIN:VCALENDAR
VERSION:2.0
PRODID:-//Library Market//iCal Export//EN
BEGIN:VEVENT
SUMMARY:Virtual Discussion: Best State Fair Crafts with Smithsonian Curato
 r Mary Savig
UID:18822
DTSTAMP:20260421T215900Z
DTSTART:20260603T180000Z
DTEND:20260603T190000Z
LOCATION:
DESCRIPTION:This is a VIRTUAL event, available for viewing through our vir
 tual author talks site. The program will be available live at the time lis
 ted here, and it will also be recorded and uploaded for later viewing. Reg
 ister for and view this program here: https://libraryc.org/newberlinlibrar
 y/161371Your Ticket to the Best State Fair Crafts with Smithsonian Curator
  Mary SavigJoin us for a fascinating discussion with Smithsonian Curator M
 ary Savig on the history and significance of craft at state fairs—from b
 lue-ribbon quilts to sculpted butter cows, and so much more!Come one, come
  all! State Fairs has a little something for everyone. Register now to h
 ear about the fascinating (and often surprising) world of American state f
 air crafts!About the Author: Mary Savig is The Fleur and Charles Bresler C
 urator-in-Charge of the Smithsonian American Art Museum’s Renwick Galler
 y. She holds a PhD in American Studies from the University of Maryland, Co
 llege Park.
URL:https://www.newberlinlibrary.org/event/virtual-discussion-best-state-f
 air-crafts-smithsonian-curator-mary-savig-18822
END:VEVENT
END:VCALENDAR
