BEGIN:VCALENDAR
VERSION:2.0
PRODID:-//Library Market//iCal Export//EN
BEGIN:VEVENT
SUMMARY:Virtual Author Talk: Matt Dinniman
UID:18825
DTSTAMP:20260421T215900Z
DTSTART:20260611T230000Z
DTEND:20260612T000000Z
LOCATION:
DESCRIPTION:This is a VIRTUAL event, available for viewing through our vir
 tual author talks site. The program will be available live at the time lis
 ted here, and it will also be recorded and uploaded for later viewing. Reg
 ister for and view this program here: https://libraryc.org/newberlinlibrar
 y/161989Apocalyptic Mayhem, Lava-Spitting Llamas, and One Very Sassy Cat: 
 Surviving the Universe’s Most Twisted RPG with Matt DinnimanHold onto yo
 ur heart-patterned boxers! Matt Dinniman, New York Times bestselling auth
 or of the wildly popular (and just plain wild) Dungeon Crawler Carl serie
 s, joins us to chat about his latest book, A Parade of Horribles. Registe
 r now for a fun-filled discussion you won’t want to miss!About the Autho
 r: Matt Dinniman is a writer and artist from Gig Harbor, Washington. He is
  the author of the New York Times bestselling Dungeon Crawler Carl serie
 s along with several other books about the end of the world. He doesn’t
  really hate Cocker Spaniels, and he plays bass in one band.
URL:https://www.newberlinlibrary.org/event/copy-virtual-author-talk-matt-d
 inniman-18825
END:VEVENT
END:VCALENDAR
