BEGIN:VCALENDAR
VERSION:2.0
PRODID:-//Library Market//iCal Export//EN
BEGIN:VEVENT
SUMMARY:Laura&#039;s Retirement Celebration
UID:18836
DTSTAMP:20260421T215000Z
DTSTART:20260611T180000Z
DTEND:20260611T190000Z
LOCATION:15105 Library Lane, New Berlin, WI 53151, United States
ROOM: Community Room
DESCRIPTION:Celebrate Laura&#039;s next chapter
URL:https://www.newberlinlibrary.org/event/lauras-retirement-celebration-1
 8836
END:VEVENT
END:VCALENDAR
