BEGIN:VCALENDAR
VERSION:2.0
PRODID:-//Library Market//iCal Export//EN
BEGIN:VEVENT
SUMMARY:Virtual Author Talk: Ted Page
UID:18842
DTSTAMP:20260421T215900Z
DTSTART:20260618T180000Z
DTEND:20260618T190000Z
LOCATION:
DESCRIPTION:This is a VIRTUAL event, available for viewing through our vir
 tual author talks site. The program will be available live at the time lis
 ted here, and it will also be recorded and uploaded for later viewing. Reg
 ister for and view this program here: https://libraryc.org/newberlinlibrar
 y/162607Nurturing Future Generations: Stories from the Heart of Grandfathe
 rhood with Ted PageJoin us in conversation with storyteller and popular bl
 ogger Ted Page as we chat about his journey to bring together the stories 
 and wisdom of grandfathers from all walks of life, all with a mission to n
 urture the next great generation.Good Grandpa is inspiring, uplifting, evo
 cative, and filled with genuine emotion. It is a recipe of hope for a divi
 ded America, and the book that will be on every grandparent’s reading li
 st.Register today and find out why Ted Page says “our greatest generati
 on is to come.”About the Author: Ted Page is a storyteller and performer
 . He is the author of Good Grandpa: Stories from the Heart of Grandfather
 hood (Regalo Press) featured on NBC’s The TODAY Show, NPR and in Forbes 
 Magazine. His nonfiction stories have appeared in Boston Magazine and the
  Boston Globe Magazine, and his comedy screen credits include work with J
 ohn Cleese and Florence Henderson. His blog for grandfathers—GoodGrandpa
 .com—has been featured in The New York Times. Ted’s book of true fami
 ly stories, The Willoughby Chronicles, was published in 2017. He lives in
  New England and has a bunch of grandchildren.
URL:https://www.newberlinlibrary.org/event/virtual-author-talk-ted-page-18
 842
END:VEVENT
END:VCALENDAR
