BEGIN:VCALENDAR
VERSION:2.0
PRODID:-//Library Market//iCal Export//EN
BEGIN:VEVENT
SUMMARY:Virtual Author Talk: Sana Javeri Kadri and Asha Loupy (Cooking)
UID:18843
DTSTAMP:20260421T232300Z
DTSTART:20260623T180000Z
DTEND:20260623T190000Z
LOCATION:
DESCRIPTION:This is a VIRTUAL event, available for viewing through our vir
 tual author talks site. The program will be available live at the time lis
 ted here, and it will also be recorded and uploaded for later viewing. Reg
 ister for and view this program here: https://libraryc.org/newberlinlibrar
 y/164461Simple, Sustainable, and Powerfully Delicious Meals with Sana Jave
 ri Kadri and Asha LoupyJoin us as we chat with Sana Javeri Kadri and Asha 
 Loupy aboutÂ The Diaspora Spice Co. Cookbook, celebrating beautiful, simpl
 e, and seasonal cooking with 85 recipes adapted from India and Sri Lankaâ€
 ™s best family spice farms.Â Diaspora Spice Co. sources spices from 150 re
 generative farms across South Asia. From elders, indigenous communities, y
 oung changemakers, and brilliant multi-generational farming families acros
 s India and Sri Lanka, these spices recognize those leading the way in sus
 tainable and climate change resistant agriculture.About the Author: Sana J
 averi KadriÂ is the founder and CEO of Diaspora Co., a farm-to-table spice
  company that puts equity, transparency, and high-quality products at its 
 forefront. Sana founded the company in 2017 with just a turmeric blend; no
 w her company sources 30 single origin spices from across 150 farms across
  India and Sri Lanka. A third-generation native of Mumbai, she now lives i
 n Oakland, California.Asha Loupy is a recipe developer and writer with mor
 e than a decade of experience in the specialty food industry, from cheese 
 monger to grocery buyer and e-commerce manager. Sheâ€™s written forÂ Bon A
 ppĂ©tit, Food52, Epicurious, and more. Sheâ€™s based in Oakland, Californi
 a.
URL:https://www.newberlinlibrary.org/event/virtual-author-talk-sana-javeri
 -kadri-and-asha-loupy-cooking-18843
END:VEVENT
END:VCALENDAR
