BEGIN:VCALENDAR
VERSION:2.0
PRODID:-//Library Market//iCal Export//EN
BEGIN:VEVENT
SUMMARY:2026 NWS Milwaukee Storm Spotter Training
UID:18879
DTSTAMP:20260424T004400Z
DTSTART:20260504T233000Z
DTEND:20260505T013000Z
LOCATION:15105 Library Lane, New Berlin, WI 53151, United States
ROOM: Community Room
DESCRIPTION:Join us for free, in-person National Weather Service Storm Spo
 tter Class.No registration required. 
URL:https://www.newberlinlibrary.org/event/severe-weatherstorm-spotter-cla
 ss-18879
END:VEVENT
END:VCALENDAR
